BEGIN:VCALENDAR
VERSION:2.0
PRODID:-//casalakecounty.com//NONSGML kigkonsult.se iCalcreator 2.30.10//
CALSCALE:GREGORIAN
METHOD:PUBLISH
UID:3cd1b667-8879-4f3b-80e8-f62144fcf897
X-WR-CALDESC:Join us for an evening of beautiful classical music by Healing
  Harmony and guest classical musicians in support of CASA Lake County.\n\n
 Proceeds from registrations and donations support our work to ensure that 
 every child has a voice in court.\n\nConcert length: Approximately 1 hour
 \nLight refreshments will be served following the concert.
X-WR-RELCALID:094de886d4be1b65b0f63df327248708
X-WR-TIMEZONE:America/Chicago
BEGIN:VTIMEZONE
TZID:America/Chicago
BEGIN:STANDARD
TZNAME:CST
DTSTART:20251102T020000
TZOFFSETFROM:-0500
TZOFFSETTO:-0600
RDATE:20261101T020000
END:STANDARD
BEGIN:DAYLIGHT
TZNAME:CDT
DTSTART:20260308T020000
TZOFFSETFROM:-0600
TZOFFSETTO:-0500
RDATE:20270314T020000
END:DAYLIGHT
END:VTIMEZONE
BEGIN:VEVENT
UID:489097d7-b44c-48ec-aa40-76d2447ec39a
DTSTAMP:20260421T141412Z
DESCRIPTION:Join us for an evening of beautiful classical music by Healing 
 Harmony and guest classical musicians in support of CASA Lake County.\n\nP
 roceeds from registrations and donations support our work to ensure that e
 very child has a voice in court.\n\nConcert length: Approximately 1 hour\n
 Light refreshments will be served following the concert.
DTSTART;TZID=America/Chicago:20260416T193000
DTEND;TZID=America/Chicago:20260416T210000
LOCATION:200 Lake Cook Rd\, Deerfield\, IL 60015 US
SUMMARY:Concert for CASA
END:VEVENT
END:VCALENDAR
