BEGIN:VCALENDAR
VERSION:2.0
PRODID:-//casalakecounty.com//NONSGML kigkonsult.se iCalcreator 2.30.10//
CALSCALE:GREGORIAN
METHOD:PUBLISH
UID:5010bb2d-fa27-432c-8318-2d11dfb725d4
X-WR-CALDESC:Join our 2026 Golf for a Child Invitational for a fun day of g
 olf all while supporting CASA Lake County in providing trained advocates t
 o look out for the best interests of children in foster care.\n\nThe day i
 ncludes:\n\n-a continental breakfast\n-sit-down lunch\n-scramble golf with
  a shotgun start\n-exciting games and prizes\n-evening cocktail hour\n\nYo
 u won't want to miss out! Purchase your individual tickets or sponsorship 
 today.
X-WR-RELCALID:c1e35396f74f2a9b5dde86c3ab264c51
X-WR-TIMEZONE:America/Chicago
BEGIN:VTIMEZONE
TZID:America/Chicago
BEGIN:STANDARD
TZNAME:CST
DTSTART:20251102T020000
TZOFFSETFROM:-0500
TZOFFSETTO:-0600
RDATE:20261101T020000
RDATE:20271107T020000
END:STANDARD
BEGIN:DAYLIGHT
TZNAME:CDT
DTSTART:20260308T020000
TZOFFSETFROM:-0600
TZOFFSETTO:-0500
RDATE:20270314T020000
END:DAYLIGHT
END:VTIMEZONE
BEGIN:VEVENT
UID:16dd4952-767b-4035-b815-7b91ac40b655
DTSTAMP:20260421T143645Z
DESCRIPTION:Join our 2026 Golf for a Child Invitational for a fun day of go
 lf all while supporting CASA Lake County in providing trained advocates to
  look out for the best interests of children in foster care.\n\nThe day in
 cludes:\n\n-a continental breakfast\n-sit-down lunch\n-scramble golf with 
 a shotgun start\n-exciting games and prizes\n-evening cocktail hour\n\nYou
  won't want to miss out! Purchase your individual tickets or sponsorship t
 oday.
DTSTART;TZID=America/Chicago:20260629T090000
DTEND;TZID=America/Chicago:20260629T170000
LOCATION:Kemper Lakes Golf Club\, 24000 N Old McHenry Rd\, Kildeer\, IL 600
 47 US
SUMMARY:Annual Golf for a Child Invitational
END:VEVENT
END:VCALENDAR
