BEGIN:VCALENDAR
VERSION:2.0
PRODID:-//casalakecounty.com//NONSGML kigkonsult.se iCalcreator 2.30.10//
CALSCALE:GREGORIAN
METHOD:PUBLISH
UID:214968c8-920e-4d87-bd6e-4ba5dc642034
X-WR-CALDESC:GivingTuesday was created in 2012 as a simple idea: A day that
  encourages people to do good. Over 13 years\, this idea has grown into a 
 global movement that inspires millions of people to donate\, volunteer\, a
 nd spread awareness. Keep an eye out on our social media for ways to suppo
 rt CASA!
X-WR-RELCALID:f34e6be4f45b9a343ff3718ad6a31418
X-WR-TIMEZONE:America/Chicago
BEGIN:VTIMEZONE
TZID:America/Chicago
BEGIN:STANDARD
TZNAME:CST
DTSTART:20251102T020000
TZOFFSETFROM:-0500
TZOFFSETTO:-0600
RDATE:20261101T020000
END:STANDARD
BEGIN:DAYLIGHT
TZNAME:CDT
DTSTART:20250309T020000
TZOFFSETFROM:-0600
TZOFFSETTO:-0500
RDATE:20260308T020000
RDATE:20270314T020000
END:DAYLIGHT
END:VTIMEZONE
BEGIN:VEVENT
UID:b3e087cb-ece7-41f5-af77-bf3db6d2a446
DTSTAMP:20260421T160358Z
DESCRIPTION:GivingTuesday was created in 2012 as a simple idea: A day that 
 encourages people to do good. Over 13 years\, this idea has grown into a g
 lobal movement that inspires millions of people to donate\, volunteer\, an
 d spread awareness. Keep an eye out on our social media for ways to suppor
 t CASA!
DTSTART;TZID=America/Chicago:20251202T050000
DTEND;TZID=America/Chicago:20251202T050001
LOCATION:
SUMMARY:GivingTuesday
END:VEVENT
END:VCALENDAR
